Package: switchBox Version: 1.42.0 Command: rm -rf switchBox.buildbin-libdir && mkdir switchBox.buildbin-libdir && F:\biocbuild\bbs-3.20-bioc\R\bin\R.exe CMD INSTALL --build --library=switchBox.buildbin-libdir switchBox_1.42.0.tar.gz StartedAt: 2025-04-01 09:21:17 -0400 (Tue, 01 Apr 2025) EndedAt: 2025-04-01 09:21:46 -0400 (Tue, 01 Apr 2025) EllapsedTime: 29.5 seconds RetCode: 0 Status: OK PackageFile: switchBox_1.42.0.zip PackageFileSize: 650.9 KiB