Package: switchBox Version: 1.42.0 Command: /Library/Frameworks/R.framework/Resources/bin/R CMD check --install=check:switchBox.install-out.txt --library=/Library/Frameworks/R.framework/Resources/library --no-vignettes --timings switchBox_1.42.0.tar.gz StartedAt: 2025-04-01 10:02:44 -0400 (Tue, 01 Apr 2025) EndedAt: 2025-04-01 10:04:06 -0400 (Tue, 01 Apr 2025) EllapsedTime: 82.5 seconds RetCode: 0 Status: WARNINGS CheckDir: switchBox.Rcheck Warnings: 3