Package: switchBox Version: 1.42.0 Command: /Library/Frameworks/R.framework/Resources/bin/R CMD build --keep-empty-dirs --no-resave-data switchBox StartedAt: 2025-03-31 22:28:44 -0400 (Mon, 31 Mar 2025) EndedAt: 2025-03-31 22:29:14 -0400 (Mon, 31 Mar 2025) EllapsedTime: 30.1 seconds RetCode: 0 Status: OK PackageFile: switchBox_1.42.0.tar.gz PackageFileSize: 470.6 KiB