Package: switchBox Version: 1.42.0 Command: rm -rf switchBox.buildbin-libdir && mkdir switchBox.buildbin-libdir && /Users/biocbuild/BBS/utils/build-universal.sh switchBox_1.42.0.tar.gz /Library/Frameworks/R.framework/Resources/bin/R switchBox.buildbin-libdir StartedAt: 2025-04-01 12:53:21 -0400 (Tue, 01 Apr 2025) EndedAt: 2025-04-01 12:53:34 -0400 (Tue, 01 Apr 2025) EllapsedTime: 13.2 seconds RetCode: 0 Status: OK PackageFile: switchBox_1.42.0.tgz PackageFileSize: 641 KiB