Package: switchBox Version: 1.42.0 Command: /Library/Frameworks/R.framework/Resources/bin/R CMD check --install=check:switchBox.install-out.txt --library=/Library/Frameworks/R.framework/Resources/library --no-vignettes --timings switchBox_1.42.0.tar.gz StartedAt: 2025-04-02 10:52:01 -0400 (Wed, 02 Apr 2025) EndedAt: 2025-04-02 10:52:42 -0400 (Wed, 02 Apr 2025) EllapsedTime: 41.4 seconds RetCode: 0 Status: WARNINGS CheckDir: switchBox.Rcheck Warnings: 3