Package: switchBox Version: 1.42.0 Command: rm -rf switchBox.buildbin-libdir && mkdir switchBox.buildbin-libdir && /Users/biocbuild/BBS/utils/build-universal.sh switchBox_1.42.0.tar.gz /Library/Frameworks/R.framework/Resources/bin/R switchBox.buildbin-libdir StartedAt: 2025-04-02 16:34:35 -0400 (Wed, 02 Apr 2025) EndedAt: 2025-04-02 16:34:43 -0400 (Wed, 02 Apr 2025) EllapsedTime: 7.9 seconds RetCode: 0 Status: OK PackageFile: switchBox_1.42.0.tgz PackageFileSize: 640.4 KiB