Package: swfdr Version: 1.32.0 Command: F:\biocbuild\bbs-3.20-bioc\R\bin\R.exe CMD INSTALL swfdr StartedAt: 2025-03-31 15:23:55 -0400 (Mon, 31 Mar 2025) EndedAt: 2025-03-31 15:24:16 -0400 (Mon, 31 Mar 2025) EllapsedTime: 20.2 seconds RetCode: 0 Status: OK