Package: swfdr Version: 1.32.0 Command: rm -rf swfdr.buildbin-libdir && mkdir swfdr.buildbin-libdir && /Users/biocbuild/BBS/utils/build-universal.sh swfdr_1.32.0.tar.gz /Library/Frameworks/R.framework/Resources/bin/R swfdr.buildbin-libdir StartedAt: 2025-04-01 12:53:13 -0400 (Tue, 01 Apr 2025) EndedAt: 2025-04-01 12:53:21 -0400 (Tue, 01 Apr 2025) EllapsedTime: 7.9 seconds RetCode: 0 Status: OK PackageFile: swfdr_1.32.0.tgz PackageFileSize: 1.43 MiB