Package: svaRetro Version: 1.12.0 Command: rm -rf svaRetro.buildbin-libdir && mkdir svaRetro.buildbin-libdir && F:\biocbuild\bbs-3.20-bioc\R\bin\R.exe CMD INSTALL --build --library=svaRetro.buildbin-libdir svaRetro_1.12.0.tar.gz StartedAt: 2025-04-01 09:20:53 -0400 (Tue, 01 Apr 2025) EndedAt: 2025-04-01 09:21:35 -0400 (Tue, 01 Apr 2025) EllapsedTime: 42.0 seconds RetCode: 0 Status: OK PackageFile: svaRetro_1.12.0.zip PackageFileSize: 1.468 MiB