Package: svaNUMT Version: 1.12.0 Command: /home/biocbuild/R/R/bin/R CMD INSTALL svaNUMT StartedAt: 2025-03-31 20:35:23 -0000 (Mon, 31 Mar 2025) EndedAt: 2025-03-31 20:36:11 -0000 (Mon, 31 Mar 2025) EllapsedTime: 48.5 seconds RetCode: 0 Status: OK