Package: survcomp Version: 1.56.0 Command: /home/biocbuild/R/R/bin/R CMD build --keep-empty-dirs --no-resave-data survcomp StartedAt: 2025-04-01 03:02:46 -0000 (Tue, 01 Apr 2025) EndedAt: 2025-04-01 03:03:08 -0000 (Tue, 01 Apr 2025) EllapsedTime: 22.0 seconds RetCode: 0 Status: OK PackageFile: survcomp_1.56.0.tar.gz PackageFileSize: 634.3 KiB