Package: survcomp Version: 1.56.0 Command: rm -rf survcomp.buildbin-libdir && mkdir survcomp.buildbin-libdir && /Users/biocbuild/BBS/utils/build-universal.sh survcomp_1.56.0.tar.gz /Library/Frameworks/R.framework/Resources/bin/R survcomp.buildbin-libdir StartedAt: 2025-04-01 12:52:54 -0400 (Tue, 01 Apr 2025) EndedAt: 2025-04-01 12:53:21 -0400 (Tue, 01 Apr 2025) EllapsedTime: 26.9 seconds RetCode: 0 Status: OK PackageFile: survcomp_1.56.0.tgz PackageFileSize: 833.4 KiB