Package: survcomp Version: 1.56.0 Command: /Library/Frameworks/R.framework/Resources/bin/R CMD build --keep-empty-dirs --no-resave-data survcomp StartedAt: 2025-04-01 08:56:28 -0400 (Tue, 01 Apr 2025) EndedAt: 2025-04-01 08:56:55 -0400 (Tue, 01 Apr 2025) EllapsedTime: 27.1 seconds RetCode: 0 Status: OK PackageFile: survcomp_1.56.0.tar.gz PackageFileSize: 638 KiB