Package: survClust Version: 1.0.0 Command: /home/biocbuild/R/R/bin/R CMD build --keep-empty-dirs --no-resave-data survClust StartedAt: 2025-04-01 03:02:46 -0000 (Tue, 01 Apr 2025) EndedAt: 2025-04-01 03:42:46 -0000 (Tue, 01 Apr 2025) EllapsedTime: 2400.0 seconds RetCode: None Status: TIMEOUT PackageFile: None PackageFileSize: NA