Package: survClust Version: 1.0.0 Command: /Library/Frameworks/R.framework/Resources/bin/R CMD INSTALL survClust StartedAt: 2025-03-31 16:07:05 -0400 (Mon, 31 Mar 2025) EndedAt: 2025-03-31 16:08:01 -0400 (Mon, 31 Mar 2025) EllapsedTime: 56.6 seconds RetCode: 0 Status: OK