Package: surfaltr Version: 1.12.0 Command: rm -rf surfaltr.buildbin-libdir && mkdir surfaltr.buildbin-libdir && F:\biocbuild\bbs-3.20-bioc\R\bin\R.exe CMD INSTALL --build --library=surfaltr.buildbin-libdir surfaltr_1.12.0.tar.gz StartedAt: 2025-04-01 09:20:26 -0400 (Tue, 01 Apr 2025) EndedAt: 2025-04-01 09:21:03 -0400 (Tue, 01 Apr 2025) EllapsedTime: 36.6 seconds RetCode: 0 Status: OK PackageFile: surfaltr_1.12.0.zip PackageFileSize: 1.845 MiB