Package: surfaltr Version: 1.12.0 Command: /home/biocbuild/bbs-3.20-bioc/R/bin/R CMD check --install=check:surfaltr.install-out.txt --library=/home/biocbuild/bbs-3.20-bioc/R/site-library --timings surfaltr_1.12.0.tar.gz StartedAt: 2025-04-01 02:45:49 -0400 (Tue, 01 Apr 2025) EndedAt: 2025-04-01 02:47:46 -0400 (Tue, 01 Apr 2025) EllapsedTime: 116.2 seconds RetCode: 0 Status: OK CheckDir: surfaltr.Rcheck Warnings: 0