Package: surfaltr Version: 1.12.0 Command: /Library/Frameworks/R.framework/Resources/bin/R CMD build --keep-empty-dirs --no-resave-data surfaltr StartedAt: 2025-03-31 22:27:14 -0400 (Mon, 31 Mar 2025) EndedAt: 2025-03-31 22:28:11 -0400 (Mon, 31 Mar 2025) EllapsedTime: 57.5 seconds RetCode: 0 Status: OK PackageFile: surfaltr_1.12.0.tar.gz PackageFileSize: 3.051 MiB