Package: surfaltr Version: 1.12.0 Command: /Library/Frameworks/R.framework/Resources/bin/R CMD build --keep-empty-dirs --no-resave-data surfaltr StartedAt: 2025-04-01 08:55:18 -0400 (Tue, 01 Apr 2025) EndedAt: 2025-04-01 08:55:51 -0400 (Tue, 01 Apr 2025) EllapsedTime: 33.1 seconds RetCode: 0 Status: OK PackageFile: surfaltr_1.12.0.tar.gz PackageFileSize: 3.052 MiB