Package: supraHex Version: 1.44.0 Command: /Library/Frameworks/R.framework/Resources/bin/R CMD INSTALL supraHex StartedAt: 2025-03-31 15:45:01 -0400 (Mon, 31 Mar 2025) EndedAt: 2025-03-31 15:45:20 -0400 (Mon, 31 Mar 2025) EllapsedTime: 18.5 seconds RetCode: 0 Status: OK