Package: supersigs Version: 1.14.0 Command: /home/biocbuild/R/R/bin/R CMD INSTALL supersigs StartedAt: 2025-03-31 21:00:35 -0000 (Mon, 31 Mar 2025) EndedAt: 2025-03-31 21:01:15 -0000 (Mon, 31 Mar 2025) EllapsedTime: 40.4 seconds RetCode: 0 Status: OK