Package: supersigs Version: 1.14.0 Command: /home/biocbuild/R/R/bin/R CMD build --keep-empty-dirs --no-resave-data supersigs StartedAt: 2025-04-01 03:02:23 -0000 (Tue, 01 Apr 2025) EndedAt: 2025-04-01 03:03:45 -0000 (Tue, 01 Apr 2025) EllapsedTime: 81.1 seconds RetCode: 0 Status: OK PackageFile: supersigs_1.14.0.tar.gz PackageFileSize: 2.589 MiB