Package: supersigs Version: 1.14.0 Command: /Library/Frameworks/R.framework/Resources/bin/R CMD check --install=check:supersigs.install-out.txt --library=/Library/Frameworks/R.framework/Resources/library --no-vignettes --timings supersigs_1.14.0.tar.gz StartedAt: 2025-04-02 10:41:34 -0400 (Wed, 02 Apr 2025) EndedAt: 2025-04-02 10:46:32 -0400 (Wed, 02 Apr 2025) EllapsedTime: 298.3 seconds RetCode: 0 Status: OK CheckDir: supersigs.Rcheck Warnings: 0