Package: subSeq Version: 1.36.0 Command: /home/biocbuild/R/R/bin/R CMD build --keep-empty-dirs --no-resave-data subSeq StartedAt: 2025-04-01 03:01:20 -0000 (Tue, 01 Apr 2025) EndedAt: 2025-04-01 03:02:12 -0000 (Tue, 01 Apr 2025) EllapsedTime: 52.0 seconds RetCode: 0 Status: OK PackageFile: subSeq_1.36.0.tar.gz PackageFileSize: 2.909 MiB