Package: struct Version: 1.18.0 Command: rm -rf struct.buildbin-libdir && mkdir struct.buildbin-libdir && F:\biocbuild\bbs-3.20-bioc\R\bin\R.exe CMD INSTALL --build --library=struct.buildbin-libdir struct_1.18.0.tar.gz StartedAt: 2025-04-01 09:20:03 -0400 (Tue, 01 Apr 2025) EndedAt: 2025-04-01 09:21:45 -0400 (Tue, 01 Apr 2025) EllapsedTime: 101.9 seconds RetCode: 0 Status: OK PackageFile: struct_1.18.0.zip PackageFileSize: 1.543 MiB