Package: stepNorm Version: 1.78.0 Command: /Library/Frameworks/R.framework/Resources/bin/R CMD INSTALL stepNorm StartedAt: 2025-03-31 15:13:24 -0400 (Mon, 31 Mar 2025) EndedAt: 2025-03-31 15:13:28 -0400 (Mon, 31 Mar 2025) EllapsedTime: 4.2 seconds RetCode: 0 Status: OK