Package: statTarget Version: 1.36.0 Command: /home/biocbuild/R/R/bin/R CMD INSTALL statTarget StartedAt: 2025-03-31 20:16:43 -0000 (Mon, 31 Mar 2025) EndedAt: 2025-03-31 20:17:00 -0000 (Mon, 31 Mar 2025) EllapsedTime: 16.7 seconds RetCode: 0 Status: OK