Package: ssviz Version: 1.40.0 Command: /home/biocbuild/R/R/bin/R CMD INSTALL ssviz StartedAt: 2025-03-31 20:32:02 -0000 (Mon, 31 Mar 2025) EndedAt: 2025-03-31 20:32:21 -0000 (Mon, 31 Mar 2025) EllapsedTime: 18.9 seconds RetCode: 0 Status: OK