Package: ssviz Version: 1.40.0 Command: /home/biocbuild/R/R/bin/R CMD build --keep-empty-dirs --no-resave-data ssviz StartedAt: 2025-04-01 02:59:10 -0000 (Tue, 01 Apr 2025) EndedAt: 2025-04-01 02:59:39 -0000 (Tue, 01 Apr 2025) EllapsedTime: 29.0 seconds RetCode: 0 Status: OK PackageFile: ssviz_1.40.0.tar.gz PackageFileSize: 1.146 MiB