Package: ssviz Version: 1.40.0 Command: F:\biocbuild\bbs-3.20-bioc\R\bin\R.exe CMD INSTALL ssviz StartedAt: 2025-03-31 16:13:54 -0400 (Mon, 31 Mar 2025) EndedAt: 2025-03-31 16:14:30 -0400 (Mon, 31 Mar 2025) EllapsedTime: 36.6 seconds RetCode: 0 Status: OK