Package: ssviz Version: 1.40.0 Command: chmod a+r ssviz -R && F:\biocbuild\bbs-3.20-bioc\R\bin\R.exe CMD build --keep-empty-dirs --no-resave-data ssviz StartedAt: 2025-03-31 22:12:18 -0400 (Mon, 31 Mar 2025) EndedAt: 2025-03-31 22:12:57 -0400 (Mon, 31 Mar 2025) EllapsedTime: 38.6 seconds RetCode: 0 Status: OK PackageFile: ssviz_1.40.0.tar.gz PackageFileSize: 1013 KiB