Package: ssrch Version: 1.22.0 Command: /home/biocbuild/R/R/bin/R CMD INSTALL ssrch StartedAt: 2025-03-31 20:43:36 -0000 (Mon, 31 Mar 2025) EndedAt: 2025-03-31 20:43:42 -0000 (Mon, 31 Mar 2025) EllapsedTime: 6.2 seconds RetCode: 0 Status: OK