Package: ssize Version: 1.80.0 Command: /home/biocbuild/R/R/bin/R CMD build --keep-empty-dirs --no-resave-data ssize StartedAt: 2025-04-01 02:58:33 -0000 (Tue, 01 Apr 2025) EndedAt: 2025-04-01 02:58:42 -0000 (Tue, 01 Apr 2025) EllapsedTime: 9.0 seconds RetCode: 0 Status: OK PackageFile: ssize_1.80.0.tar.gz PackageFileSize: 532.3 KiB