Package: ssize Version: 1.80.0 Command: rm -rf ssize.buildbin-libdir && mkdir ssize.buildbin-libdir && /Users/biocbuild/BBS/utils/build-universal.sh ssize_1.80.0.tar.gz /Library/Frameworks/R.framework/Resources/bin/R ssize.buildbin-libdir StartedAt: 2025-04-02 16:31:30 -0400 (Wed, 02 Apr 2025) EndedAt: 2025-04-02 16:31:33 -0400 (Wed, 02 Apr 2025) EllapsedTime: 3.3 seconds RetCode: 0 Status: OK PackageFile: ssize_1.80.0.tgz PackageFileSize: 536.7 KiB