Package: sscu Version: 2.36.0 Command: /Library/Frameworks/R.framework/Resources/bin/R CMD build --keep-empty-dirs --no-resave-data sscu StartedAt: 2025-03-31 22:22:32 -0400 (Mon, 31 Mar 2025) EndedAt: 2025-03-31 22:23:03 -0400 (Mon, 31 Mar 2025) EllapsedTime: 30.8 seconds RetCode: 0 Status: OK PackageFile: sscu_2.36.0.tar.gz PackageFileSize: 1.287 MiB