Package: ssPATHS Version: 1.20.0 Command: /home/biocbuild/bbs-3.20-bioc/R/bin/R CMD INSTALL ssPATHS StartedAt: 2024-11-19 16:52:44 -0500 (Tue, 19 Nov 2024) EndedAt: 2024-11-19 16:53:03 -0500 (Tue, 19 Nov 2024) EllapsedTime: 19.1 seconds RetCode: 0 Status: OK