Package: ssPATHS Version: 1.20.0 Command: /home/biocbuild/R/R/bin/R CMD build --keep-empty-dirs --no-resave-data ssPATHS StartedAt: 2025-04-01 02:59:01 -0000 (Tue, 01 Apr 2025) EndedAt: 2025-04-01 02:59:43 -0000 (Tue, 01 Apr 2025) EllapsedTime: 42.1 seconds RetCode: 0 Status: OK PackageFile: ssPATHS_1.20.0.tar.gz PackageFileSize: 3.668 MiB