Package: ssPATHS Version: 1.20.0 Command: chmod a+r ssPATHS -R && F:\biocbuild\bbs-3.20-bioc\R\bin\R.exe CMD build --keep-empty-dirs --no-resave-data ssPATHS StartedAt: 2025-03-31 22:11:57 -0400 (Mon, 31 Mar 2025) EndedAt: 2025-03-31 22:12:45 -0400 (Mon, 31 Mar 2025) EllapsedTime: 48.6 seconds RetCode: 0 Status: OK PackageFile: ssPATHS_1.20.0.tar.gz PackageFileSize: 3.581 MiB