Package: ssPATHS Version: 1.20.0 Command: /Library/Frameworks/R.framework/Resources/bin/R CMD INSTALL ssPATHS StartedAt: 2025-03-31 16:19:47 -0400 (Mon, 31 Mar 2025) EndedAt: 2025-03-31 16:20:35 -0400 (Mon, 31 Mar 2025) EllapsedTime: 48.8 seconds RetCode: 0 Status: OK