Package: ssPATHS Version: 1.20.0 Command: rm -rf ssPATHS.buildbin-libdir && mkdir ssPATHS.buildbin-libdir && /Users/biocbuild/BBS/utils/build-universal.sh ssPATHS_1.20.0.tar.gz /Library/Frameworks/R.framework/Resources/bin/R ssPATHS.buildbin-libdir StartedAt: 2025-04-01 12:51:56 -0400 (Tue, 01 Apr 2025) EndedAt: 2025-04-01 12:52:48 -0400 (Tue, 01 Apr 2025) EllapsedTime: 51.5 seconds RetCode: 0 Status: OK PackageFile: ssPATHS_1.20.0.tgz PackageFileSize: 3.704 MiB