Package: ssPATHS Version: 1.20.0 Command: /Library/Frameworks/R.framework/Resources/bin/R CMD check --install=check:ssPATHS.install-out.txt --library=/Library/Frameworks/R.framework/Resources/library --no-vignettes --timings ssPATHS_1.20.0.tar.gz StartedAt: 2025-04-02 10:21:56 -0400 (Wed, 02 Apr 2025) EndedAt: 2025-04-02 10:25:18 -0400 (Wed, 02 Apr 2025) EllapsedTime: 202.8 seconds RetCode: 0 Status: OK CheckDir: ssPATHS.Rcheck Warnings: 0