Package: squallms Version: 1.0.0 Command: rm -rf squallms.buildbin-libdir && mkdir squallms.buildbin-libdir && F:\biocbuild\bbs-3.20-bioc\R\bin\R.exe CMD INSTALL --build --library=squallms.buildbin-libdir squallms_1.0.0.tar.gz StartedAt: 2025-04-01 09:19:11 -0400 (Tue, 01 Apr 2025) EndedAt: 2025-04-01 09:20:07 -0400 (Tue, 01 Apr 2025) EllapsedTime: 55.1 seconds RetCode: 0 Status: OK PackageFile: squallms_1.0.0.zip PackageFileSize: 1.227 MiB