Package: squallms Version: 1.0.0 Command: /home/biocbuild/bbs-3.20-bioc/R/bin/R CMD INSTALL squallms StartedAt: 2025-03-31 15:50:55 -0400 (Mon, 31 Mar 2025) EndedAt: 2025-03-31 15:51:38 -0400 (Mon, 31 Mar 2025) EllapsedTime: 43.5 seconds RetCode: 0 Status: OK