Package: squallms Version: 1.0.0 Command: /Library/Frameworks/R.framework/Resources/bin/R CMD INSTALL squallms StartedAt: 2025-03-31 16:22:01 -0400 (Mon, 31 Mar 2025) EndedAt: 2025-03-31 16:23:31 -0400 (Mon, 31 Mar 2025) EllapsedTime: 90.3 seconds RetCode: 0 Status: OK