Package: squallms Version: 1.0.0 Command: /Library/Frameworks/R.framework/Resources/bin/R CMD check --install=check:squallms.install-out.txt --library=/Library/Frameworks/R.framework/Resources/library --no-vignettes --timings squallms_1.0.0.tar.gz StartedAt: 2025-04-01 09:48:06 -0400 (Tue, 01 Apr 2025) EndedAt: 2025-04-01 10:03:48 -0400 (Tue, 01 Apr 2025) EllapsedTime: 942.5 seconds RetCode: 0 Status: OK CheckDir: squallms.Rcheck Warnings: 0