Package: squallms Version: 1.0.0 Command: /Library/Frameworks/R.framework/Resources/bin/R CMD build --keep-empty-dirs --no-resave-data squallms StartedAt: 2025-03-31 22:21:20 -0400 (Mon, 31 Mar 2025) EndedAt: 2025-03-31 22:24:22 -0400 (Mon, 31 Mar 2025) EllapsedTime: 181.9 seconds RetCode: 0 Status: OK PackageFile: squallms_1.0.0.tar.gz PackageFileSize: 2.286 MiB