Package: spqn Version: 1.18.0 Command: /home/biocbuild/R/R/bin/R CMD build --keep-empty-dirs --no-resave-data spqn StartedAt: 2025-04-01 02:56:25 -0000 (Tue, 01 Apr 2025) EndedAt: 2025-04-01 03:02:08 -0000 (Tue, 01 Apr 2025) EllapsedTime: 343.3 seconds RetCode: 0 Status: OK PackageFile: spqn_1.18.0.tar.gz PackageFileSize: 2.468 MiB