Package: spqn Version: 1.18.0 Command: rm -rf spqn.buildbin-libdir && mkdir spqn.buildbin-libdir && /Users/biocbuild/BBS/utils/build-universal.sh spqn_1.18.0.tar.gz /Library/Frameworks/R.framework/Resources/bin/R spqn.buildbin-libdir StartedAt: 2025-04-01 12:51:14 -0400 (Tue, 01 Apr 2025) EndedAt: 2025-04-01 12:52:02 -0400 (Tue, 01 Apr 2025) EllapsedTime: 47.5 seconds RetCode: 0 Status: OK PackageFile: spqn_1.18.0.tgz PackageFileSize: 2.835 MiB