Package: spoon Version: 1.2.0 Command: F:\biocbuild\bbs-3.20-bioc\R\bin\R.exe CMD check --no-multiarch --install=check:spoon.install-out.txt --library=F:\biocbuild\bbs-3.20-bioc\R\library --no-vignettes --timings spoon_1.2.0.tar.gz StartedAt: 2025-04-01 06:22:07 -0400 (Tue, 01 Apr 2025) EndedAt: 2025-04-01 06:32:08 -0400 (Tue, 01 Apr 2025) EllapsedTime: 600.8 seconds RetCode: 0 Status: OK CheckDir: spoon.Rcheck Warnings: 0