Package: spoon Version: 1.2.0 Command: /Library/Frameworks/R.framework/Resources/bin/R CMD INSTALL spoon StartedAt: 2025-03-31 15:28:24 -0400 (Mon, 31 Mar 2025) EndedAt: 2025-03-31 15:29:12 -0400 (Mon, 31 Mar 2025) EllapsedTime: 47.5 seconds RetCode: 0 Status: OK